BEGIN:VCALENDAR
VERSION:2.0
PRODID:-//Doppelpunkt//Events//DE
CALSCALE:GREGORIAN
METHOD:PUBLISH
BEGIN:VEVENT
UID:event-2446@www.doppelpunkt.de
DTSTAMP:20260421T032015
DTSTART:20260104T180000
DTEND:20260104T180000
SUMMARY:Mathias Tretter: "Nachgetrettert - Der satirische Jahresrückblick"\, Kabarett
LOCATION:Fifty Fifty\, Südliche Stadtmauerstr. 1\, 91054 Erlangen
STATUS:CONFIRMED
END:VEVENT
END:VCALENDAR