BEGIN:VCALENDAR
VERSION:2.0
PRODID:-//Doppelpunkt//Events//DE
CALSCALE:GREGORIAN
METHOD:PUBLISH
BEGIN:VEVENT
UID:event-2443@www.doppelpunkt.de
DTSTAMP:20260425T123808
DTSTART:20251221T180000
DTEND:20251221T180000
SUMMARY:Klaus Karl-Kraus: "Budderblädzli\, Bunsch und Bäggli"\, fränk. Kabarett
LOCATION:Fifty Fifty\, Südliche Stadtmauerstr. 1\, 91054 Erlangen
STATUS:CONFIRMED
END:VEVENT
END:VCALENDAR