BEGIN:VCALENDAR
VERSION:2.0
PRODID:-//Doppelpunkt//Events//DE
CALSCALE:GREGORIAN
METHOD:PUBLISH
BEGIN:VEVENT
UID:event-2440@www.doppelpunkt.de
DTSTAMP:20260419T183930
DTSTART:20251213T200000
DTEND:20251213T200000
SUMMARY:Christoph Kuch: "Macht verrückt"\, Mental-Magie-Show
LOCATION:Fifty Fifty\, Südliche Stadtmauerstr. 1\, 91054 Erlangen
STATUS:CONFIRMED
END:VEVENT
END:VCALENDAR