BEGIN:VCALENDAR
VERSION:2.0
PRODID:-//Doppelpunkt//Events//DE
CALSCALE:GREGORIAN
METHOD:PUBLISH
BEGIN:VEVENT
UID:event-2439@www.doppelpunkt.de
DTSTAMP:20260425T122932
DTSTART:20251212T200000
DTEND:20251212T200000
SUMMARY:Florian Hacke: "Authentischkeit"\, Comedy
LOCATION:Fifty Fifty\, Südliche Stadtmauerstr. 1\, 91054 Erlangen
STATUS:CONFIRMED
END:VEVENT
END:VCALENDAR