BEGIN:VCALENDAR
VERSION:2.0
PRODID:-//Doppelpunkt//Events//DE
CALSCALE:GREGORIAN
METHOD:PUBLISH
BEGIN:VEVENT
UID:event-2435@www.doppelpunkt.de
DTSTAMP:20260421T111646
DTSTART:20260201T110000
DTEND:20260201T110000
SUMMARY:"Die vier Jahreszeiten"\, Familienkonzert in Kooperation mit dem gVe\, ab 6 J.
LOCATION:Markgrafentheater\, Theaterplatz 2\, 91054 Erlangen
STATUS:CONFIRMED
END:VEVENT
END:VCALENDAR