BEGIN:VCALENDAR
VERSION:2.0
PRODID:-//Doppelpunkt//Events//DE
CALSCALE:GREGORIAN
METHOD:PUBLISH
BEGIN:VEVENT
UID:event-2432@www.doppelpunkt.de
DTSTAMP:20260419T182808
DTSTART:20251207T150000
DTEND:20251207T150000
SUMMARY:"Spring doch"\, von Andri Beyeler\, ab 6 J.
LOCATION:Theater in der Garage\, Theaterstraße 5\, 91054 Erlangen
STATUS:CONFIRMED
END:VEVENT
END:VCALENDAR