BEGIN:VCALENDAR
VERSION:2.0
PRODID:-//Doppelpunkt//Events//DE
CALSCALE:GREGORIAN
METHOD:PUBLISH
BEGIN:VEVENT
UID:event-2424@www.doppelpunkt.de
DTSTAMP:20260421T105721
DTSTART:20260221T200000
DTEND:20260221T200000
SUMMARY:Ralf Winkelbeiner: "Happy"\, Comedy
LOCATION:Gutmann\, Bayernstr. 150\, 90478 Nürnberg
STATUS:CONFIRMED
END:VEVENT
END:VCALENDAR