BEGIN:VCALENDAR
VERSION:2.0
PRODID:-//Doppelpunkt//Events//DE
CALSCALE:GREGORIAN
METHOD:PUBLISH
BEGIN:VEVENT
UID:event-2409@www.doppelpunkt.de
DTSTAMP:20260421T111547
DTSTART:20260208T200000
DTEND:20260208T200000
SUMMARY:Murzarellas Music-Puppet-Show
LOCATION:Gutmann\, Bayernstr. 150\, 90478 Nürnberg
STATUS:CONFIRMED
END:VEVENT
END:VCALENDAR