BEGIN:VCALENDAR
VERSION:2.0
PRODID:-//Doppelpunkt//Events//DE
CALSCALE:GREGORIAN
METHOD:PUBLISH
BEGIN:VEVENT
UID:event-2404@www.doppelpunkt.de
DTSTAMP:20260425T122815
DTSTART:20260205T200000
DTEND:20260205T200000
SUMMARY:Joe Di Nardo: "Comedy al dente"\, Comedy
LOCATION:Löwensaal\, Schmausenbuckstr. 166\, 90480 Nürnberg
STATUS:CONFIRMED
END:VEVENT
END:VCALENDAR