BEGIN:VCALENDAR
VERSION:2.0
PRODID:-//Doppelpunkt//Events//DE
CALSCALE:GREGORIAN
METHOD:PUBLISH
BEGIN:VEVENT
UID:event-2402@www.doppelpunkt.de
DTSTAMP:20260425T121854
DTSTART:20260205T200000
DTEND:20260205T200000
SUMMARY:Christian Springer: "Leider"\, Kabarett
LOCATION:Gutmann\, Bayernstr. 150\, 90478 Nürnberg
STATUS:CONFIRMED
END:VEVENT
END:VCALENDAR