BEGIN:VCALENDAR
VERSION:2.0
PRODID:-//Doppelpunkt//Events//DE
CALSCALE:GREGORIAN
METHOD:PUBLISH
BEGIN:VEVENT
UID:event-2401@www.doppelpunkt.de
DTSTAMP:20260421T105624
DTSTART:20260205T193000
DTEND:20260205T193000
SUMMARY:TBS (Rock/Rap/Metal)
LOCATION:Stadthalle Fürth\, Rosenstr. 50\, 90762 Fürth
STATUS:CONFIRMED
END:VEVENT
END:VCALENDAR