BEGIN:VCALENDAR
VERSION:2.0
PRODID:-//Doppelpunkt//Events//DE
CALSCALE:GREGORIAN
METHOD:PUBLISH
BEGIN:VEVENT
UID:event-2400@www.doppelpunkt.de
DTSTAMP:20260425T121951
DTSTART:20260204T200000
DTEND:20260204T200000
SUMMARY:Simon Stäblein: "Absolute Frechheit"\, Comedy
LOCATION:Löwensaal\, Schmausenbuckstr. 166\, 90480 Nürnberg
STATUS:CONFIRMED
END:VEVENT
END:VCALENDAR