BEGIN:VCALENDAR
VERSION:2.0
PRODID:-//Doppelpunkt//Events//DE
CALSCALE:GREGORIAN
METHOD:PUBLISH
BEGIN:VEVENT
UID:event-2399@www.doppelpunkt.de
DTSTAMP:20260421T111646
DTSTART:20260204T200000
DTEND:20260204T200000
SUMMARY:Kayla Shyx (Indie-Pop)
LOCATION:Hirsch\, Vogelweiher Str. 66\, 90441 Nürnberg
STATUS:CONFIRMED
END:VEVENT
END:VCALENDAR