BEGIN:VCALENDAR
VERSION:2.0
PRODID:-//Doppelpunkt//Events//DE
CALSCALE:GREGORIAN
METHOD:PUBLISH
BEGIN:VEVENT
UID:event-2398@www.doppelpunkt.de
DTSTAMP:20260421T111722
DTSTART:20260203T200000
DTEND:20260203T200000
SUMMARY:Burning Witches (Heavy Metal)\, Support: Hammer King
LOCATION:Hirsch\, Vogelweiher Str. 66\, 90441 Nürnberg
STATUS:CONFIRMED
END:VEVENT
END:VCALENDAR