BEGIN:VCALENDAR
VERSION:2.0
PRODID:-//Doppelpunkt//Events//DE
CALSCALE:GREGORIAN
METHOD:PUBLISH
BEGIN:VEVENT
UID:event-2397@www.doppelpunkt.de
DTSTAMP:20260421T111540
DTSTART:20260201T200000
DTEND:20260201T200000
SUMMARY:Sara Brandhuber: "A scheena Schmarrn!"\, Musik-Kabarett
LOCATION:Gutmann\, Bayernstr. 150\, 90478 Nürnberg
STATUS:CONFIRMED
END:VEVENT
END:VCALENDAR