BEGIN:VCALENDAR
VERSION:2.0
PRODID:-//Doppelpunkt//Events//DE
CALSCALE:GREGORIAN
METHOD:PUBLISH
BEGIN:VEVENT
UID:event-2394@www.doppelpunkt.de
DTSTAMP:20260425T135820
DTSTART:20260130T200000
DTEND:20260130T200000
SUMMARY:Werner Schmidbauer (bayer. Liedermacher)
LOCATION:Löwensaal\, Schmausenbuckstr. 166\, 90480 Nürnberg
STATUS:CONFIRMED
END:VEVENT
END:VCALENDAR