BEGIN:VCALENDAR
VERSION:2.0
PRODID:-//Doppelpunkt//Events//DE
CALSCALE:GREGORIAN
METHOD:PUBLISH
BEGIN:VEVENT
UID:event-2392@www.doppelpunkt.de
DTSTAMP:20260425T135435
DTSTART:20260129T200000
DTEND:20260129T200000
SUMMARY:Autorenlesung mit Wladimir Kaminer: "Das geheime Leben der Deutschen"
LOCATION:Gutmann\, Bayernstr. 150\, 90478 Nürnberg
STATUS:CONFIRMED
END:VEVENT
END:VCALENDAR