BEGIN:VCALENDAR
VERSION:2.0
PRODID:-//Doppelpunkt//Events//DE
CALSCALE:GREGORIAN
METHOD:PUBLISH
BEGIN:VEVENT
UID:event-2391@www.doppelpunkt.de
DTSTAMP:20260425T135838
DTSTART:20260128T200000
DTEND:20260128T200000
SUMMARY:Skarra Mucci x Manudigital (Hip-Hop/Raggae/Dancehall)
LOCATION:Hirsch\, Vogelweiher Str. 66\, 90441 Nürnberg
STATUS:CONFIRMED
END:VEVENT
END:VCALENDAR