BEGIN:VCALENDAR
VERSION:2.0
PRODID:-//Doppelpunkt//Events//DE
CALSCALE:GREGORIAN
METHOD:PUBLISH
BEGIN:VEVENT
UID:event-2390@www.doppelpunkt.de
DTSTAMP:20260425T135617
DTSTART:20260128T200000
DTEND:20260128T200000
SUMMARY:Schlecky Silberstein: "No Hoden No Cry"\, Kabarett
LOCATION:Gutmann\, Bayernstr. 150\, 90478 Nürnberg
STATUS:CONFIRMED
END:VEVENT
END:VCALENDAR