BEGIN:VCALENDAR
VERSION:2.0
PRODID:-//Doppelpunkt//Events//DE
CALSCALE:GREGORIAN
METHOD:PUBLISH
BEGIN:VEVENT
UID:event-2389@www.doppelpunkt.de
DTSTAMP:20260425T135639
DTSTART:20260128T193000
DTEND:20260128T193000
SUMMARY:Galerie: Elwood Stray & Our Mirage (Metal)
LOCATION:Z-Bau\, Frankenstr. 200\, 90461 Nürnberg
STATUS:CONFIRMED
END:VEVENT
END:VCALENDAR