BEGIN:VCALENDAR
VERSION:2.0
PRODID:-//Doppelpunkt//Events//DE
CALSCALE:GREGORIAN
METHOD:PUBLISH
BEGIN:VEVENT
UID:event-2388@www.doppelpunkt.de
DTSTAMP:20260425T135617
DTSTART:20260127T183000
DTEND:20260127T183000
SUMMARY:Sylosis (Metal)\, Support: Revocation\, Distant\, Life Cycles
LOCATION:Hirsch\, Vogelweiher Str. 66\, 90441 Nürnberg
STATUS:CONFIRMED
END:VEVENT
END:VCALENDAR