BEGIN:VCALENDAR
VERSION:2.0
PRODID:-//Doppelpunkt//Events//DE
CALSCALE:GREGORIAN
METHOD:PUBLISH
BEGIN:VEVENT
UID:event-2387@www.doppelpunkt.de
DTSTAMP:20260425T135707
DTSTART:20260126T193000
DTEND:20260126T193000
SUMMARY:Born of Osiris (Progressive-Metal)\, Support: Within Destruction\, Aversions Crown\, Larcenia Roe
LOCATION:Hirsch\, Vogelweiher Str. 66\, 90441 Nürnberg
STATUS:CONFIRMED
END:VEVENT
END:VCALENDAR