BEGIN:VCALENDAR
VERSION:2.0
PRODID:-//Doppelpunkt//Events//DE
CALSCALE:GREGORIAN
METHOD:PUBLISH
BEGIN:VEVENT
UID:event-2386@www.doppelpunkt.de
DTSTAMP:20260425T135755
DTSTART:20260125T200000
DTEND:20260125T200000
SUMMARY:Samuel Sibilski: "Reicht langsam!"\, Kabarett
LOCATION:Gutmann\, Bayernstr. 150\, 90478 Nürnberg
STATUS:CONFIRMED
END:VEVENT
END:VCALENDAR