BEGIN:VCALENDAR
VERSION:2.0
PRODID:-//Doppelpunkt//Events//DE
CALSCALE:GREGORIAN
METHOD:PUBLISH
BEGIN:VEVENT
UID:event-2384@www.doppelpunkt.de
DTSTAMP:20260425T141626
DTSTART:20260124T200000
DTEND:20260124T200000
SUMMARY:Helmut A. Binser: "Bumm"\, Kabarett
LOCATION:Löwensaal\, Schmausenbuckstr. 166\, 90480 Nürnberg
STATUS:CONFIRMED
END:VEVENT
END:VCALENDAR