BEGIN:VCALENDAR
VERSION:2.0
PRODID:-//Doppelpunkt//Events//DE
CALSCALE:GREGORIAN
METHOD:PUBLISH
BEGIN:VEVENT
UID:event-2383@www.doppelpunkt.de
DTSTAMP:20260425T142129
DTSTART:20260124T200000
DTEND:20260124T200000
SUMMARY:Yves Macak: "R-zieher"\, Comedy
LOCATION:Gutmann\, Bayernstr. 150\, 90478 Nürnberg
STATUS:CONFIRMED
END:VEVENT
END:VCALENDAR