BEGIN:VCALENDAR
VERSION:2.0
PRODID:-//Doppelpunkt//Events//DE
CALSCALE:GREGORIAN
METHOD:PUBLISH
BEGIN:VEVENT
UID:event-2382@www.doppelpunkt.de
DTSTAMP:20260425T160918
DTSTART:20260123T200000
DTEND:20260123T200000
SUMMARY:Counterparts (Melodic Hardcore/Metalcore)\, Support: Sunami\, One Step Closer\, God Complex
LOCATION:Z-Bau\, Frankenstr. 200\, 90461 Nürnberg
STATUS:CONFIRMED
END:VEVENT
END:VCALENDAR