BEGIN:VCALENDAR
VERSION:2.0
PRODID:-//Doppelpunkt//Events//DE
CALSCALE:GREGORIAN
METHOD:PUBLISH
BEGIN:VEVENT
UID:event-2379@www.doppelpunkt.de
DTSTAMP:20260425T141956
DTSTART:20260122T200000
DTEND:20260122T200000
SUMMARY:Linn Schütze und Leonie Bartsch: "Mord auf Ex Live"\, True-Crime-Podcast
LOCATION:PSD Bank Nürnberg Arena\, Kurt-Leucht-Weg 11\, 90471 Nürnberg
STATUS:CONFIRMED
END:VEVENT
END:VCALENDAR