BEGIN:VCALENDAR
VERSION:2.0
PRODID:-//Doppelpunkt//Events//DE
CALSCALE:GREGORIAN
METHOD:PUBLISH
BEGIN:VEVENT
UID:event-2378@www.doppelpunkt.de
DTSTAMP:20260425T142309
DTSTART:20260121T200000
DTEND:20260121T200000
SUMMARY:Christoph Maul: "Live und ungeprobt"\, Kabarett
LOCATION:Gutmann\, Bayernstr. 150\, 90478 Nürnberg
STATUS:CONFIRMED
END:VEVENT
END:VCALENDAR