BEGIN:VCALENDAR
VERSION:2.0
PRODID:-//Doppelpunkt//Events//DE
CALSCALE:GREGORIAN
METHOD:PUBLISH
BEGIN:VEVENT
UID:event-2377@www.doppelpunkt.de
DTSTAMP:20260425T140326
DTSTART:20260120T200000
DTEND:20260120T200000
SUMMARY:Frontm3n unplugged (Rock/Pop/Folk)
LOCATION:LUX\, Leipziger Str. 25\, 90491 Nürnberg
STATUS:CONFIRMED
END:VEVENT
END:VCALENDAR