BEGIN:VCALENDAR
VERSION:2.0
PRODID:-//Doppelpunkt//Events//DE
CALSCALE:GREGORIAN
METHOD:PUBLISH
BEGIN:VEVENT
UID:event-2376@www.doppelpunkt.de
DTSTAMP:20260425T135457
DTSTART:20260118T200000
DTEND:20260118T200000
SUMMARY:Dymytry Paradox (Metal)
LOCATION:Hirsch\, Vogelweiher Str. 66\, 90441 Nürnberg
STATUS:CONFIRMED
END:VEVENT
END:VCALENDAR