BEGIN:VCALENDAR
VERSION:2.0
PRODID:-//Doppelpunkt//Events//DE
CALSCALE:GREGORIAN
METHOD:PUBLISH
BEGIN:VEVENT
UID:event-2375@www.doppelpunkt.de
DTSTAMP:20260425T135352
DTSTART:20260118T200000
DTEND:20260118T200000
SUMMARY:Lesung mit Roland Jankowsky: "Overbeck reloaded"\, Krimi-Kurzgeschichten
LOCATION:Gutmann\, Bayernstr. 150\, 90478 Nürnberg
STATUS:CONFIRMED
END:VEVENT
END:VCALENDAR