BEGIN:VCALENDAR
VERSION:2.0
PRODID:-//Doppelpunkt//Events//DE
CALSCALE:GREGORIAN
METHOD:PUBLISH
BEGIN:VEVENT
UID:event-2374@www.doppelpunkt.de
DTSTAMP:20260425T140515
DTSTART:20260117T200000
DTEND:20260117T200000
SUMMARY:Knorkator (Metal)
LOCATION:Löwensaal\, Schmausenbuckstr. 166\, 90480 Nürnberg
STATUS:CONFIRMED
END:VEVENT
END:VCALENDAR