BEGIN:VCALENDAR
VERSION:2.0
PRODID:-//Doppelpunkt//Events//DE
CALSCALE:GREGORIAN
METHOD:PUBLISH
BEGIN:VEVENT
UID:event-2373@www.doppelpunkt.de
DTSTAMP:20260425T122819
DTSTART:20251221T150000
DTEND:20251221T150000
SUMMARY:"Der Zauber von Oz"\, von Sergej Gößner nach L. Frank Baum\, ab 5 J.
LOCATION:Markgrafentheater\, Theaterplatz 2\, 91054 Erlangen
STATUS:CONFIRMED
END:VEVENT
END:VCALENDAR