BEGIN:VCALENDAR
VERSION:2.0
PRODID:-//Doppelpunkt//Events//DE
CALSCALE:GREGORIAN
METHOD:PUBLISH
BEGIN:VEVENT
UID:event-2369@www.doppelpunkt.de
DTSTAMP:20260421T105423
DTSTART:20260109T200000
DTEND:20260109T200000
SUMMARY:Christopher Köhler & Benjamin Gleissner: "True Crime Magic"\, Zauber-/Crime-Show
LOCATION:Fortuna Kulturfabrik Höchstadt/A.\, Bahnhofstraße 9\, 91315 Höchstadt/Aisch
STATUS:CONFIRMED
END:VEVENT
END:VCALENDAR