BEGIN:VCALENDAR
VERSION:2.0
PRODID:-//Doppelpunkt//Events//DE
CALSCALE:GREGORIAN
METHOD:PUBLISH
BEGIN:VEVENT
UID:event-2366@www.doppelpunkt.de
DTSTAMP:20260425T142147
DTSTART:20260114T190000
DTEND:20260114T190000
SUMMARY:Lionheart (Hardcore Punk)\, Support: Madball\, Gideon\, Slope
LOCATION:Z-Bau\, Frankenstr. 200\, 90461 Nürnberg
STATUS:CONFIRMED
END:VEVENT
END:VCALENDAR