BEGIN:VCALENDAR
VERSION:2.0
PRODID:-//Doppelpunkt//Events//DE
CALSCALE:GREGORIAN
METHOD:PUBLISH
BEGIN:VEVENT
UID:event-2365@www.doppelpunkt.de
DTSTAMP:20260425T143758
DTSTART:20260112T200000
DTEND:20260112T200000
SUMMARY:Wishbone Ash (Classic Rock)
LOCATION:Hirsch\, Vogelweiher Str. 66\, 90441 Nürnberg
STATUS:CONFIRMED
END:VEVENT
END:VCALENDAR