BEGIN:VCALENDAR
VERSION:2.0
PRODID:-//Doppelpunkt//Events//DE
CALSCALE:GREGORIAN
METHOD:PUBLISH
BEGIN:VEVENT
UID:event-2364@www.doppelpunkt.de
DTSTAMP:20260425T122815
DTSTART:20260110T200000
DTEND:20260110T200000
SUMMARY:Klaus Karl-Kraus: "Schrille Nacht\, eilige Nacht"\, Kabarett
LOCATION:Gutmann\, Bayernstr. 150\, 90478 Nürnberg
STATUS:CONFIRMED
END:VEVENT
END:VCALENDAR