BEGIN:VCALENDAR
VERSION:2.0
PRODID:-//Doppelpunkt//Events//DE
CALSCALE:GREGORIAN
METHOD:PUBLISH
BEGIN:VEVENT
UID:event-2361@www.doppelpunkt.de
DTSTAMP:20260421T083911
DTSTART:20260108T200000
DTEND:20260108T200000
SUMMARY:Christopher Köhler & Benjamin Gleissner: "True Crime Magic"\, Zauber-/Crime-Show
LOCATION:Gutmann\, Bayernstr. 150\, 90478 Nürnberg
STATUS:CONFIRMED
END:VEVENT
END:VCALENDAR