BEGIN:VCALENDAR
VERSION:2.0
PRODID:-//Doppelpunkt//Events//DE
CALSCALE:GREGORIAN
METHOD:PUBLISH
BEGIN:VEVENT
UID:event-2360@www.doppelpunkt.de
DTSTAMP:20260421T064929
DTSTART:20260107T200000
DTEND:20260107T200000
SUMMARY:Stefan Danziger: "Dann isset halt so"\, Comedy
LOCATION:Gutmann\, Bayernstr. 150\, 90478 Nürnberg
STATUS:CONFIRMED
END:VEVENT
END:VCALENDAR