BEGIN:VCALENDAR
VERSION:2.0
PRODID:-//Doppelpunkt//Events//DE
CALSCALE:GREGORIAN
METHOD:PUBLISH
BEGIN:VEVENT
UID:event-2359@www.doppelpunkt.de
DTSTAMP:20260421T014427
DTSTART:20260104T190000
DTEND:20260104T190000
SUMMARY:Frankenbänd & Helmut Haberkamm (fränk. Songs u. Geschichten)
LOCATION:Gutmann\, Bayernstr. 150\, 90478 Nürnberg
STATUS:CONFIRMED
END:VEVENT
END:VCALENDAR