BEGIN:VCALENDAR
VERSION:2.0
PRODID:-//Doppelpunkt//Events//DE
CALSCALE:GREGORIAN
METHOD:PUBLISH
BEGIN:VEVENT
UID:event-2358@www.doppelpunkt.de
DTSTAMP:20260420T234942
DTSTART:20260103T200000
DTEND:20260103T200000
SUMMARY:Michael Ophelders: "Warum Heinz mit Erhardt lacht"\, Heinz Erhardt-Abend
LOCATION:Gutmann\, Bayernstr. 150\, 90478 Nürnberg
STATUS:CONFIRMED
END:VEVENT
END:VCALENDAR