BEGIN:VCALENDAR
VERSION:2.0
PRODID:-//Doppelpunkt//Events//DE
CALSCALE:GREGORIAN
METHOD:PUBLISH
BEGIN:VEVENT
UID:event-2357@www.doppelpunkt.de
DTSTAMP:20260420T220835
DTSTART:20260102T200000
DTEND:20260102T200000
SUMMARY:J.B.O. (Fun-Metal)
LOCATION:Löwensaal\, Schmausenbuckstr. 166\, 90480 Nürnberg
STATUS:CONFIRMED
END:VEVENT
END:VCALENDAR