BEGIN:VCALENDAR
VERSION:2.0
PRODID:-//Doppelpunkt//Events//DE
CALSCALE:GREGORIAN
METHOD:PUBLISH
BEGIN:VEVENT
UID:event-2353@www.doppelpunkt.de
DTSTAMP:20260421T111721
DTSTART:20260213T193000
DTEND:20260213T193000
SUMMARY:Christine Eixenberger: "Volle Kontrolle"\, Kabarett
LOCATION:Zehntspeicher\, Anton-von-Rotenhahn-Str. 2\, 91077 Neunkirchen am Brand
STATUS:CONFIRMED
END:VEVENT
END:VCALENDAR