BEGIN:VCALENDAR
VERSION:2.0
PRODID:-//Doppelpunkt//Events//DE
CALSCALE:GREGORIAN
METHOD:PUBLISH
BEGIN:VEVENT
UID:event-2352@www.doppelpunkt.de
DTSTAMP:20260421T113105
DTSTART:20260201T150000
DTEND:20260201T150000
SUMMARY:Jan Josef Liefers (Sprecher)\, Staatskapelle Weimar: "Wagner/Loriot - Der Ring an einem Abend"\, Loriots Einführung in Richard Wagners Götterwelt
LOCATION:Meistersingerhalle\, Münchener Str. 21\, 90478 Nürnberg
STATUS:CONFIRMED
END:VEVENT
END:VCALENDAR