BEGIN:VCALENDAR
VERSION:2.0
PRODID:-//Doppelpunkt//Events//DE
CALSCALE:GREGORIAN
METHOD:PUBLISH
BEGIN:VEVENT
UID:event-2351@www.doppelpunkt.de
DTSTAMP:20260425T135836
DTSTART:20260131T193000
DTEND:20260131T193000
SUMMARY:Harald Lesch mit Martin Walch & Merlin Ensemble Wien: "Die vier Jahreszeiten im Klimawandel"\, Vortrag mit Musik
LOCATION:Konzert- und Kongresshalle\, Mußstraße 1\, 96047 Bamberg
STATUS:CONFIRMED
END:VEVENT
END:VCALENDAR