BEGIN:VCALENDAR
VERSION:2.0
PRODID:-//Doppelpunkt//Events//DE
CALSCALE:GREGORIAN
METHOD:PUBLISH
BEGIN:VEVENT
UID:event-2349@www.doppelpunkt.de
DTSTAMP:20260425T141400
DTSTART:20260121T193000
DTEND:20260121T193000
SUMMARY:Pippo Pollina in Concerto (Songwritger/Kammermusik)
LOCATION:Heinrich-Lades-Halle\, Rathausplatz 2\, 91052 Erlangen
STATUS:CONFIRMED
END:VEVENT
END:VCALENDAR