BEGIN:VCALENDAR
VERSION:2.0
PRODID:-//Doppelpunkt//Events//DE
CALSCALE:GREGORIAN
METHOD:PUBLISH
BEGIN:VEVENT
UID:event-2348@www.doppelpunkt.de
DTSTAMP:20260425T141543
DTSTART:20260120T193000
DTEND:20260120T193000
SUMMARY:Django Asül "Rückspiegel"\, Satirischer Jahresrückblick
LOCATION:Zehntspeicher\, Anton-von-Rotenhahn-Str. 2\, 91077 Neunkirchen am Brand
STATUS:CONFIRMED
END:VEVENT
END:VCALENDAR