BEGIN:VCALENDAR
VERSION:2.0
PRODID:-//Doppelpunkt//Events//DE
CALSCALE:GREGORIAN
METHOD:PUBLISH
BEGIN:VEVENT
UID:event-2345@www.doppelpunkt.de
DTSTAMP:20260425T122932
DTSTART:20260110T193000
DTEND:20260110T193000
SUMMARY:Harald Lesch mit Martin Walch & Merlin Ensemble Wien: "Die vier Jahreszeiten im Klimawandel"\, Vortrag mit Musik
LOCATION:Meistersingerhalle\, Münchener Str. 21\, 90478 Nürnberg
STATUS:CONFIRMED
END:VEVENT
END:VCALENDAR