BEGIN:VCALENDAR
VERSION:2.0
PRODID:-//Doppelpunkt//Events//DE
CALSCALE:GREGORIAN
METHOD:PUBLISH
BEGIN:VEVENT
UID:event-2343@www.doppelpunkt.de
DTSTAMP:20260425T122826
DTSTART:20251229T200000
DTEND:20251229T200000
SUMMARY:Lunabühne Weißenburg: "Das fränkische Amtsgericht"
LOCATION:Gutmann\, Bayernstr. 150\, 90478 Nürnberg
STATUS:CONFIRMED
END:VEVENT
END:VCALENDAR