BEGIN:VCALENDAR
VERSION:2.0
PRODID:-//Doppelpunkt//Events//DE
CALSCALE:GREGORIAN
METHOD:PUBLISH
BEGIN:VEVENT
UID:event-2331@www.doppelpunkt.de
DTSTAMP:20260425T135615
DTSTART:20260131T090000
DTEND:20260131T090000
SUMMARY:"Parentum"\, Berufswahlmesse für Jugendliche u. Eltern
LOCATION:Ofenwerk\, Klingenhofstr. 72\, 90411 Nürnberg
STATUS:CONFIRMED
END:VEVENT
END:VCALENDAR